BEGIN:VCALENDAR
VERSION:2.0
PRODID:SchoolNow
CALSCALE:GREGORIAN
BEGIN:VEVENT
UID:22ab8028-f16e-11f0-8713-0a58a9feac02
DTSTAMP:20260120T150953Z
SUMMARY:CDD Board Workshop - Jan. 2026 - Cancelled
LOCATION:The Quarry Beach Club\, 8975 Kayak Dr\, Naples\, FL 34120.
URL;VALUE=URI:https://www.quarrycdd.org/calendar/8836109/cdd-board-workshop
 -jan-2026
DTSTART:20260127T180000Z
DTEND:20260127T190000Z
ATTACH;FILENAME=2026-01-27 Quarry CDD Workshop Agenda.pdf;FMTTYPE=applicati
 on/pdf:https://campussuite-storage.s3.amazonaws.com/prod/1558996/8b73be98-
 2b38-11ea-b7c0-0adbfdcf7165/3061634/c78fb1fe-f60f-11f0-95c3-0a58a9feac02/f
 ile/2026-01-27 Quarry CDD Workshop Agenda.pdf
END:VEVENT
END:VCALENDAR
