BEGIN:VCALENDAR
VERSION:2.0
PRODID:SchoolNow
CALSCALE:GREGORIAN
BEGIN:VEVENT
UID:6fa65af0-9012-11f0-9106-0a58a9feac02
DTSTAMP:20250912T195530Z
SUMMARY:CDD Board Meeting - Sept. 2026
LOCATION:The Quarry Beach Club\, 8975 Kayak Dr\, Naples\, FL 34120.
URL;VALUE=URI:https://www.quarrycdd.org/calendar/8615274/cdd-board-meeting-
 sept-2026
DTSTART:20260914T170000Z
DTEND:20260914T180000Z
END:VEVENT
END:VCALENDAR
