BEGIN:VCALENDAR
VERSION:2.0
PRODID:SchoolNow
CALSCALE:GREGORIAN
BEGIN:VEVENT
UID:4edfcb26-9012-11f0-a645-0affefb753e9
DTSTAMP:20250912T195435Z
SUMMARY:CDD Board Meeting - May 2026
LOCATION:The Quarry Beach Club\, 8975 Kayak Dr\, Naples\, FL 34120.
URL;VALUE=URI:https://www.quarrycdd.org/calendar/8615271/cdd-board-meeting-
 may-2026
DTSTART:20260511T170000Z
DTEND:20260511T180000Z
END:VEVENT
END:VCALENDAR
