BEGIN:VCALENDAR
VERSION:2.0
PRODID:SchoolNow
CALSCALE:GREGORIAN
BEGIN:VEVENT
UID:3a5807ae-9012-11f0-8a1a-0affefb753e9
DTSTAMP:20260311T182045Z
SUMMARY:CDD Board Meeting - Mar. 2026
LOCATION:The Quarry Beach Club\, 8975 Kayak Dr\, Naples\, FL 34120.
URL;VALUE=URI:https://www.quarrycdd.org/calendar/8615269/cdd-board-meeting-
 mar-2026
DTSTART:20260316T170000Z
DTEND:20260316T180000Z
ATTACH;FILENAME=2026-03-16 Final Updated Agenda Package Quarry.pdf;FMTTYPE=
 application/pdf:https://campussuite-storage.s3.amazonaws.com/prod/1558996/
 8b73be98-2b38-11ea-b7c0-0adbfdcf7165/3078770/dd2d27c4-1d76-11f1-9561-0afff
 e5f63e5/file/2026-03-16 Final Updated Agenda Package Quarry.pdf
END:VEVENT
END:VCALENDAR
