BEGIN:VCALENDAR
VERSION:2.0
PRODID:SchoolNow
CALSCALE:GREGORIAN
BEGIN:VEVENT
UID:2660b890-9012-11f0-8320-0a58a9feac02
DTSTAMP:20260105T220502Z
SUMMARY:CDD Board Meeting - Jan. 2026
LOCATION:The Quarry Beach Club\, 8975 Kayak Dr\, Naples\, FL 34120.
URL;VALUE=URI:https://www.quarrycdd.org/calendar/8615267/cdd-board-meeting-
 jan-2026
DTSTART:20260112T180000Z
DTEND:20260112T190000Z
ATTACH;FILENAME=2026-01-12 Final Agenda Package Quarry.pdf;FMTTYPE=applicat
 ion/pdf:https://campussuite-storage.s3.amazonaws.com/prod/1558996/8b73be98
 -2b38-11ea-b7c0-0adbfdcf7165/3056893/92bb3e14-ea82-11f0-aae2-0affea7dd9f7/
 file/2026-01-12 Final Agenda Package Quarry.pdf
END:VEVENT
END:VCALENDAR
