BEGIN:VCALENDAR
VERSION:2.0
PRODID:SchoolNow
CALSCALE:GREGORIAN
BEGIN:VEVENT
UID:0c9a24dc-9012-11f0-a739-0a58a9feac02
DTSTAMP:20251006T204439Z
SUMMARY:CDD Board Workshop - Oct. 2025
LOCATION:The Quarry Beach Club\, 8975 Kayak Dr\, Naples\, FL 34120.
URL;VALUE=URI:https://www.quarrycdd.org/calendar/8615264/cdd-board-meeting-
 oct-2025
DTSTART:20251013T170000Z
DTEND:20251013T180000Z
ATTACH;FILENAME=2025-10-13 Quarry CDD  Workshop-updated.pdf;FMTTYPE=applica
 tion/pdf:https://campussuite-storage.s3.amazonaws.com/prod/1558996/8b73be9
 8-2b38-11ea-b7c0-0adbfdcf7165/3017839/44dc66f2-a2f5-11f0-83f9-0affe3b30109
 /file/2025-10-13 Quarry CDD  Workshop-updated.pdf
END:VEVENT
END:VCALENDAR
