BEGIN:VCALENDAR
VERSION:2.0
PRODID:SchoolNow
CALSCALE:GREGORIAN
BEGIN:VEVENT
UID:1a902860-6643-11ef-bef7-0e598363e4bb
DTSTAMP:20250903T194159Z
SUMMARY:CDD Board Meeting - Sept. 2025
LOCATION:The Quarry Beach Club\, 8975 Kayak Dr\, Naples\, FL 34120.
URL;VALUE=URI:https://www.quarrycdd.org/calendar/6484430/cdd-board-meeting-
 sept-2025
DTSTART:20250908T170000Z
DTEND:20250908T180000Z
ATTACH;FILENAME=2025-09-08 Agenda Package Quarry.pdf;FMTTYPE=application/pd
 f:https://campussuite-storage.s3.amazonaws.com/prod/1558996/8b73be98-2b38-
 11ea-b7c0-0adbfdcf7165/3002894/c65db9f4-88fd-11f0-a80c-0eaa02947e27/file/2
 025-09-08 Agenda Package Quarry.pdf
ATTACH;FILENAME=The Quarry CDD_Stormwater Lakes Annual Assessment Report 8-
 11-25 (Compressed)_compressed (1)_compressed (1).pdf;FMTTYPE=application/p
 df:https://campussuite-storage.s3.amazonaws.com/prod/1558996/8b73be98-2b38
 -11ea-b7c0-0adbfdcf7165/3002897/0b3562f2-88fe-11f0-9d12-0a58a9feac02/file/
 The Quarry CDD_Stormwater Lakes Annual Assessment Report 8-11-25 (Compress
 ed)_compressed (1)_compressed (1).pdf
END:VEVENT
END:VCALENDAR
