BEGIN:VCALENDAR
VERSION:2.0
PRODID:SchoolNow
CALSCALE:GREGORIAN
BEGIN:VEVENT
UID:0948864c-6643-11ef-86ee-02976be2a577
DTSTAMP:20250807T192301Z
SUMMARY:CDD Board Meeting - Aug. 2025
LOCATION:The Quarry Beach Club\, 8975 Kayak Dr\, Naples\, FL 34120.
URL;VALUE=URI:https://www.quarrycdd.org/calendar/6484429/cdd-board-meeting-
 aug-2025
DTSTART:20250811T170000Z
DTEND:20250811T180000Z
ATTACH;FILENAME=2025-08-11 Agenda Package Quarry.pdf;FMTTYPE=application/pd
 f:https://campussuite-storage.s3.amazonaws.com/prod/1558996/8b73be98-2b38-
 11ea-b7c0-0adbfdcf7165/2989945/b160e8cc-73c3-11f0-b333-0a58a9feac02/file/2
 025-08-11 Agenda Package Quarry.pdf
END:VEVENT
END:VCALENDAR
