BEGIN:VCALENDAR
VERSION:2.0
PRODID:SchoolNow
CALSCALE:GREGORIAN
BEGIN:VEVENT
UID:feb91714-6642-11ef-b6b0-02b1d8f33087
DTSTAMP:20250603T213728Z
SUMMARY:CDD Board Meeting - Jun. 2025
LOCATION:The Quarry Beach Club\, 8975 Kayak Dr\, Naples\, FL 34120.
URL;VALUE=URI:https://www.quarrycdd.org/calendar/6484428/cdd-board-meeting-
 jun-2025
DTSTART:20250609T170000Z
DTEND:20250609T180000Z
ATTACH;FILENAME=2025-06-09 Agenda Package Quarry.pdf;FMTTYPE=application/pd
 f:https://campussuite-storage.s3.amazonaws.com/prod/1558996/8b73be98-2b38-
 11ea-b7c0-0adbfdcf7165/2964086/ed9cdd66-40c2-11f0-b1fc-0affec5dcef5/file/2
 025-06-09 Agenda Package Quarry.pdf
END:VEVENT
END:VCALENDAR
