BEGIN:VCALENDAR
VERSION:2.0
PRODID:SchoolNow
CALSCALE:GREGORIAN
BEGIN:VEVENT
UID:f4baf85e-6642-11ef-881b-0a58a9feac02
DTSTAMP:20250508T140310Z
SUMMARY:CDD Board Meeting - May 2025
LOCATION:The Quarry Beach Club\, 8975 Kayak Dr\, Naples\, FL 34120.
URL;VALUE=URI:https://www.quarrycdd.org/calendar/6484427/cdd-board-meeting-
 may-2025
DTSTART:20250512T170000Z
DTEND:20250512T180000Z
ATTACH;FILENAME=2025-05-12 Agenda Package Quarry.pdf;FMTTYPE=application/pd
 f:https://campussuite-storage.s3.amazonaws.com/prod/1558996/8b73be98-2b38-
 11ea-b7c0-0adbfdcf7165/2950861/214b308a-2c15-11f0-a9b4-024099920871/file/2
 025-05-12 Agenda Package Quarry.pdf
END:VEVENT
END:VCALENDAR
