BEGIN:VCALENDAR
VERSION:2.0
PRODID:SchoolNow
CALSCALE:GREGORIAN
BEGIN:VEVENT
UID:d5b489d4-6642-11ef-9a17-02976be2a577
DTSTAMP:20250204T200530Z
SUMMARY:CDD Board Meeting - Feb. 2025
LOCATION:The Quarry Beach Club\, 8975 Kayak Dr\, Naples\, FL 34120.
URL;VALUE=URI:https://www.quarrycdd.org/calendar/6484424/cdd-board-meeting-
 feb-2025
DTSTART:20250210T180000Z
DTEND:20250210T190000Z
ATTACH;FILENAME=2025-02-10 Agenda Package Quarry.pdf;FMTTYPE=application/pd
 f:https://campussuite-storage.s3.amazonaws.com/prod/1558996/8b73be98-2b38-
 11ea-b7c0-0adbfdcf7165/2911502/51869026-e333-11ef-a566-0afffa0e0203/file/2
 025-02-10 Agenda Package Quarry.pdf
END:VEVENT
END:VCALENDAR
