BEGIN:VCALENDAR
VERSION:2.0
PRODID:SchoolNow
CALSCALE:GREGORIAN
BEGIN:VEVENT
UID:c11f0c1a-6642-11ef-8b6b-0a58a9feac02
DTSTAMP:20241203T171122Z
SUMMARY:CDD Board Meeting - Dec. 2024
LOCATION:The Quarry Beach Club\, 8975 Kayak Dr\, Naples\, FL 34120.
URL;VALUE=URI:https://www.quarrycdd.org/calendar/6484422/cdd-board-meeting-
 dec-2024
DTSTART:20241209T180000Z
DTEND:20241209T190000Z
ATTACH;FILENAME=2024-12-09 Agenda Package Quarry.pdf;FMTTYPE=application/pd
 f:https://campussuite-storage.s3.amazonaws.com/prod/1558996/8b73be98-2b38-
 11ea-b7c0-0adbfdcf7165/2886402/c84c2aa4-b197-11ef-969e-0a58a9feac02/file/2
 024-12-09 Agenda Package Quarry.pdf
END:VEVENT
END:VCALENDAR
