BEGIN:VCALENDAR
VERSION:2.0
PRODID:SchoolNow
CALSCALE:GREGORIAN
BEGIN:VEVENT
UID:b1f58692-6642-11ef-bc33-0a58a9feac02
DTSTAMP:20241105T210259Z
SUMMARY:CDD Board Meeting - Nov. 2024
LOCATION:The Quarry Beach Club\, 8975 Kayak Dr\, Naples\, FL 34120.
URL;VALUE=URI:https://www.quarrycdd.org/calendar/6484421/cdd-board-meeting-
 nov-2024
DTSTART:20241111T180000Z
DTEND:20241111T190000Z
ATTACH;FILENAME=2024-11-11 Agenda Package Quarry.pdf;FMTTYPE=application/pd
 f:https://campussuite-storage.s3.amazonaws.com/prod/1558996/8b73be98-2b38-
 11ea-b7c0-0adbfdcf7165/2875454/0ef52ef2-9bb7-11ef-86f3-0a58a9feac02/file/2
 024-11-11 Agenda Package Quarry.pdf
END:VEVENT
END:VCALENDAR
