BEGIN:VCALENDAR
VERSION:2.0
PRODID:SchoolNow
CALSCALE:GREGORIAN
BEGIN:VEVENT
UID:864310c0-57d7-11ee-9511-0e735600cc31
DTSTAMP:20240806T153638Z
SUMMARY:CDD Board Meeting - Aug. 2024
LOCATION:The Quarry Beach Club\, 8975 Kayak Dr\, Naples\, FL 34120.
URL;VALUE=URI:https://www.quarrycdd.org/calendar/4766493/cdd-board-meeting-
 aug-2024
DTSTART:20240812T170000Z
DTEND:20240812T180000Z
ATTACH;FILENAME=2024-08-12 Agenda Package Quarry.pdf;FMTTYPE=application/pd
 f:https://campussuite-storage.s3.amazonaws.com/prod/1558996/8b73be98-2b38-
 11ea-b7c0-0adbfdcf7165/2826102/77512faa-5409-11ef-831e-0a58a9feac02/file/2
 024-08-12 Agenda Package Quarry.pdf
END:VEVENT
END:VCALENDAR
