BEGIN:VCALENDAR
VERSION:2.0
PRODID:SchoolNow
CALSCALE:GREGORIAN
BEGIN:VEVENT
UID:36b6f25c-3900-11ed-95d0-0e3d4405eb9d
DTSTAMP:20221205T200950Z
SUMMARY:CDD Board Meeting - Dec. 2022
LOCATION:The Quarry Golf Club\, 8950 Weathered Stone Naples\, FL 34120.
URL;VALUE=URI:https://www.quarrycdd.org/calendar/3418860/cdd-board-meeting-
 dec-2022
DTSTART:20221212T180000Z
DTEND:20221212T190000Z
ATTACH;FILENAME=2022-12-12 Agenda Package Quarry.pdf;FMTTYPE=application/pd
 f:https://campussuite-storage.s3.amazonaws.com/prod/1558996/8b73be98-2b38-
 11ea-b7c0-0adbfdcf7165/2520973/c3202510-74d8-11ed-beac-023d4df193b9/file/2
 022-12-12 Agenda Package Quarry.pdf
END:VEVENT
END:VCALENDAR
