BEGIN:VCALENDAR
VERSION:2.0
PRODID:SchoolNow
CALSCALE:GREGORIAN
BEGIN:VEVENT
UID:242ca88e-3900-11ed-b467-0e3d4405eb9d
DTSTAMP:20221107T214947Z
SUMMARY:CDD Board Meeting - Nov. 2022
LOCATION:The Quarry Golf Club\, 8950 Weathered Stone Naples\, FL 34120.
URL;VALUE=URI:https://www.quarrycdd.org/calendar/3418859/cdd-board-meeting-
 nov-2022
DTSTART:20221114T180000Z
DTEND:20221114T190000Z
ATTACH;FILENAME=2022-11-14 Quarry AGENDA PACKAGE.pdf;FMTTYPE=application/pd
 f:https://campussuite-storage.s3.amazonaws.com/prod/1558996/8b73be98-2b38-
 11ea-b7c0-0adbfdcf7165/2506331/011dd366-5ee6-11ed-8353-0ae859db3de5/file/2
 022-11-14 Quarry AGENDA PACKAGE.pdf
END:VEVENT
END:VCALENDAR
