BEGIN:VCALENDAR
VERSION:2.0
PRODID:SchoolNow
CALSCALE:GREGORIAN
BEGIN:VEVENT
UID:179ac4c0-3900-11ed-88c2-0e3d4405eb9d
DTSTAMP:20221010T211150Z
SUMMARY:CDD Board Meeting - Oct. 2022
LOCATION:The Quarry Golf Club\, 8950 Weathered Stone Naples\, FL 34120.
URL;VALUE=URI:https://www.quarrycdd.org/calendar/3418858/cdd-board-meeting-
 oct-2022
DTSTART:20221017T170000Z
DTEND:20221017T180000Z
ATTACH;FILENAME=2022-10-17 Quarry CDD AGENDA PACKAGE 002.pdf;FMTTYPE=applic
 ation/pdf:https://campussuite-storage.s3.amazonaws.com/prod/1558996/8b73be
 98-2b38-11ea-b7c0-0adbfdcf7165/2489873/19406330-48e0-11ed-9fca-0270ab214ca
 b/file/2022-10-17 Quarry CDD AGENDA PACKAGE 002.pdf
END:VEVENT
END:VCALENDAR
