BEGIN:VCALENDAR
VERSION:2.0
PRODID:SchoolNow
CALSCALE:GREGORIAN
BEGIN:VEVENT
UID:28c84efa-3d6d-11ec-b492-0219bd063929
DTSTAMP:20220908T202411Z
SUMMARY:CDD Special Meeting - Dec. 2021
LOCATION:The Quarry Beach Club located at 8975 Kayak Drive\, Naples\, Flori
 da 34120
URL;VALUE=URI:https://www.quarrycdd.org/calendar/2868046/cdd-special-meetin
 g-dec-2021
DTSTART:20211208T140000Z
DTEND:20211208T150000Z
END:VEVENT
END:VCALENDAR
