BEGIN:VCALENDAR
VERSION:2.0
PRODID:SchoolNow
CALSCALE:GREGORIAN
BEGIN:VEVENT
UID:6e6e8a3e-0b98-11ec-8909-0e29c2b5ce65
DTSTAMP:20220913T165349Z
SUMMARY:CDD Board Meeting - Sep. 2022
LOCATION:The Quarry Golf Club\, 8950 Weathered Stone Naples\, FL 34120.
URL;VALUE=URI:https://www.quarrycdd.org/calendar/2699767/cdd-board-meeting-
 sep-2022
DTSTART:20220919T170000Z
DTEND:20220919T180000Z
ATTACH;FILENAME=2022-09-19 Quarry Agenda Package final-compressed.pdf;FMTTY
 PE=application/pdf:https://campussuite-storage.s3.amazonaws.com/prod/15589
 96/8b73be98-2b38-11ea-b7c0-0adbfdcf7165/2475312/9bb342ae-3384-11ed-837b-0a
 aa1c86ad4b/file/2022-09-19 Quarry Agenda Package final-compressed.pdf
END:VEVENT
END:VCALENDAR
