BEGIN:VCALENDAR
VERSION:2.0
PRODID:SchoolNow
CALSCALE:GREGORIAN
BEGIN:VEVENT
UID:53f62ed2-0b98-11ec-8b56-0e29c2b5ce65
DTSTAMP:20220908T202457Z
SUMMARY:CDD Board Meeting - Aug. 2022
LOCATION:The Quarry Golf Club\, 8950 Weathered Stone Naples\, FL 34120.
URL;VALUE=URI:https://www.quarrycdd.org/calendar/2699766/cdd-board-meeting-
 aug-2022
DTSTART:20220815T170000Z
DTEND:20220815T180000Z
ATTACH;FILENAME=2022-08-15 Quarry CDD Agenda Package final.pdf;FMTTYPE=appl
 ication/pdf:https://campussuite-storage.s3.amazonaws.com/prod/1558996/8b73
 be98-2b38-11ea-b7c0-0adbfdcf7165/2457797/70b06c4a-1821-11ed-b756-0a090d55b
 777/file/2022-08-15 Quarry CDD Agenda Package final.pdf
END:VEVENT
END:VCALENDAR
