BEGIN:VCALENDAR
VERSION:2.0
PRODID:SchoolNow
CALSCALE:GREGORIAN
BEGIN:VEVENT
UID:46d255fa-0b98-11ec-9b4d-0e29c2b5ce65
DTSTAMP:20220302T141144Z
SUMMARY:CDD Board Meeting - Jul. 2022 - Cancelled
LOCATION:The Quarry Beach Club located at 8975 Kayak Drive\, Naples\, Flori
 da 34120
URL;VALUE=URI:https://www.quarrycdd.org/calendar/2699765/cdd-board-meeting-
 jul-2022
DTSTART:20220718T170000Z
DTEND:20220718T180000Z
END:VEVENT
END:VCALENDAR
