BEGIN:VCALENDAR
VERSION:2.0
PRODID:SchoolNow
CALSCALE:GREGORIAN
BEGIN:VEVENT
UID:3d37f36a-0b98-11ec-88a4-0e29c2b5ce65
DTSTAMP:20220901T152127Z
SUMMARY:CDD Board Meeting - Jun. 2022
LOCATION:The Quarry Golf Club\, 8950 Weathered Stone Naples\, FL 34120.
URL;VALUE=URI:https://www.quarrycdd.org/calendar/2699764/cdd-board-meeting-
 jun-2022
DTSTART:20220620T170000Z
DTEND:20220620T180000Z
ATTACH;FILENAME=2022-06-20 THE QUARRY CDD AGENDA PACKAGE.pdf;FMTTYPE=applic
 ation/pdf:https://campussuite-storage.s3.amazonaws.com/prod/1558996/8b73be
 98-2b38-11ea-b7c0-0adbfdcf7165/2442002/0b638f20-fc60-11ec-aa12-0e105653f9d
 1/file/2022-06-20 THE QUARRY CDD AGENDA PACKAGE.pdf
END:VEVENT
END:VCALENDAR
