BEGIN:VCALENDAR
VERSION:2.0
PRODID:SchoolNow
CALSCALE:GREGORIAN
BEGIN:VEVENT
UID:2c542d7a-0b98-11ec-8391-0e29c2b5ce65
DTSTAMP:20220509T193411Z
SUMMARY:CDD Board Meeting - May 2022
LOCATION:The Quarry Golf Club\, 8950 Weathered Stone Naples\, FL 34120.
URL;VALUE=URI:https://www.quarrycdd.org/calendar/2699763/cdd-board-meeting-
 may-2022
DTSTART:20220516T170000Z
DTEND:20220516T180000Z
ATTACH;FILENAME=2022-05-16 THE QUARRY CDD AGENDA PACKAGE.pdf;FMTTYPE=applic
 ation/pdf:https://campussuite-storage.s3.amazonaws.com/prod/1558996/8b73be
 98-2b38-11ea-b7c0-0adbfdcf7165/2413039/fb6933ee-cfce-11ec-b1f7-0a910a8962d
 3/file/2022-05-16 THE QUARRY CDD AGENDA PACKAGE.pdf
END:VEVENT
END:VCALENDAR
