BEGIN:VCALENDAR
VERSION:2.0
PRODID:SchoolNow
CALSCALE:GREGORIAN
BEGIN:VEVENT
UID:1d12496e-0b98-11ec-bcc9-0e29c2b5ce65
DTSTAMP:20220616T183247Z
SUMMARY:CDD Board Meeting - Apr. 2022
LOCATION:The Quarry Golf Club\, 8950 Weathered Stone Naples\, FL 34120.
URL;VALUE=URI:https://www.quarrycdd.org/calendar/2699762/cdd-board-meeting-
 apr-2022
DTSTART:20220418T170000Z
DTEND:20220418T180000Z
ATTACH;FILENAME=2022-04-18 THE QUARRY CDD AGENDA PACKAGE.pdf;FMTTYPE=applic
 ation/pdf:https://campussuite-storage.s3.amazonaws.com/prod/1558996/8b73be
 98-2b38-11ea-b7c0-0adbfdcf7165/2432119/a7aa6d54-e725-11ec-ba80-02d18d43fbc
 3/file/2022-04-18 THE QUARRY CDD AGENDA PACKAGE.pdf
END:VEVENT
END:VCALENDAR
