BEGIN:VCALENDAR
VERSION:2.0
PRODID:SchoolNow
CALSCALE:GREGORIAN
BEGIN:VEVENT
UID:11f8d7d2-0b98-11ec-a6cf-0e29c2b5ce65
DTSTAMP:20220616T183455Z
SUMMARY:CDD Board Meeting - Mar. 2022
LOCATION:The Quarry Beach Club located at 8975 Kayak Drive\, Naples\, Flori
 da 34120
URL;VALUE=URI:https://www.quarrycdd.org/calendar/2699761/cdd-board-meeting-
 mar-2022
DTSTART:20220321T170000Z
DTEND:20220321T180000Z
ATTACH;FILENAME=2022-03-21 THE QUARRY CDD AGENDA PACKAGE.pdf;FMTTYPE=applic
 ation/pdf:https://campussuite-storage.s3.amazonaws.com/prod/1558996/8b73be
 98-2b38-11ea-b7c0-0adbfdcf7165/2432117/70f0ca6a-e725-11ec-ab5e-02d18d43fbc
 3/file/2022-03-21 THE QUARRY CDD AGENDA PACKAGE.pdf
END:VEVENT
END:VCALENDAR
