BEGIN:VCALENDAR
VERSION:2.0
PRODID:SchoolNow
CALSCALE:GREGORIAN
BEGIN:VEVENT
UID:065ec95e-0b98-11ec-9861-0e29c2b5ce65
DTSTAMP:20220616T183527Z
SUMMARY:CDD Board Meeting - Feb. 2022
LOCATION:The Quarry Beach Club located at 8975 Kayak Drive\, Naples\, Flori
 da 34120
URL;VALUE=URI:https://www.quarrycdd.org/calendar/2699760/cdd-board-meeting-
 feb-2022
DTSTART:20220223T140000Z
DTEND:20220223T150000Z
ATTACH;FILENAME=2022-02-23 THE QUARRY CDD AGENDA PACKAGE.pdf;FMTTYPE=applic
 ation/pdf:https://campussuite-storage.s3.amazonaws.com/prod/1558996/8b73be
 98-2b38-11ea-b7c0-0adbfdcf7165/2432116/70f0c2d6-e725-11ec-a9b2-02d18d43fbc
 3/file/2022-02-23 THE QUARRY CDD AGENDA PACKAGE.pdf
END:VEVENT
END:VCALENDAR
