BEGIN:VCALENDAR
VERSION:2.0
PRODID:SchoolNow
CALSCALE:GREGORIAN
BEGIN:VEVENT
UID:fa020ff4-0b97-11ec-b280-0e29c2b5ce65
DTSTAMP:20220908T201830Z
SUMMARY:CDD Board Meeting - Jan. 2022
LOCATION:The Quarry Beach Club located at 8975 Kayak Drive\, Naples\, Flori
 da 34120
URL;VALUE=URI:https://www.quarrycdd.org/calendar/2699759/cdd-board-meeting-
 jan-2022
DTSTART:20220119T140000Z
DTEND:20220119T150000Z
END:VEVENT
END:VCALENDAR
