BEGIN:VCALENDAR
VERSION:2.0
PRODID:SchoolNow
CALSCALE:GREGORIAN
BEGIN:VEVENT
UID:ec4d4bd0-0b97-11ec-a978-0e29c2b5ce65
DTSTAMP:20220616T183737Z
SUMMARY:CDD Board Meeting - Dec. 2021
LOCATION:The Quarry Beach Club located at 8975 Kayak Drive\, Naples\, Flori
 da 34120.   Call in number: 646-838-1601  Conference ID: 951 092 195#
URL;VALUE=URI:https://www.quarrycdd.org/calendar/2699758/cdd-board-meeting-
 dec-2021
DTSTART:20211220T180000Z
DTEND:20211220T190000Z
ATTACH;FILENAME=2021-12-20 THE QUARRY CDD AGENDA PACKAGE.pdf;FMTTYPE=applic
 ation/pdf:https://campussuite-storage.s3.amazonaws.com/prod/1558996/8b73be
 98-2b38-11ea-b7c0-0adbfdcf7165/2432112/2008727e-e725-11ec-83fd-02d18d43fbc
 3/file/2021-12-20 THE QUARRY CDD AGENDA PACKAGE.pdf
END:VEVENT
END:VCALENDAR
