BEGIN:VCALENDAR
VERSION:2.0
PRODID:SchoolNow
CALSCALE:GREGORIAN
BEGIN:VEVENT
UID:dff6728a-0b97-11ec-8137-0e29c2b5ce65
DTSTAMP:20220908T202003Z
SUMMARY:CDD Board Meeting - Nov. 2021
LOCATION:The Quarry Beach Club located at 8975 Kayak Drive\, Naples\, Flori
 da 34120
URL;VALUE=URI:https://www.quarrycdd.org/calendar/2699757/cdd-board-meeting-
 nov-2021
DTSTART:20211115T180000Z
DTEND:20211115T190000Z
END:VEVENT
END:VCALENDAR
