BEGIN:VCALENDAR
VERSION:2.0
PRODID:SchoolNow
CALSCALE:GREGORIAN
BEGIN:VEVENT
UID:7a034188-6570-11eb-9630-0e90a09e9d49
DTSTAMP:20210206T040129Z
SUMMARY:CDD Workshop  - Feb. 2021
LOCATION:The Quarry Golf Club\, 8950 Weathered Stone Dr\, Naples\, FL 34120
URL;VALUE=URI:https://www.quarrycdd.org/calendar/2533707/cdd-board-meeting-
 mar-2021-clone
DTSTART:20210211T124500Z
DTEND:20210211T134500Z
ATTACH;FILENAME=;FMTTYPE=application/octet-stream:
END:VEVENT
END:VCALENDAR
