BEGIN:VCALENDAR
VERSION:2.0
PRODID:SchoolNow
CALSCALE:GREGORIAN
BEGIN:VEVENT
UID:f3ab2252-3330-11eb-9590-0a0a41a99b13
DTSTAMP:20201208T001722Z
SUMMARY:CDD Workshop - Dec. 2020
LOCATION:The Quarry Beach Club located at 8975 Kayak Drive\, Naples\, Flori
 da 34120
URL;VALUE=URI:https://www.quarrycdd.org/calendar/2505377/cdd-workshop-dec-2
 020
DTSTART:20201214T170000Z
DTEND:20201214T180000Z
ATTACH;FILENAME=;FMTTYPE=application/octet-stream:
END:VEVENT
END:VCALENDAR
