BEGIN:VCALENDAR
VERSION:2.0
PRODID:SchoolNow
CALSCALE:GREGORIAN
BEGIN:VEVENT
UID:634a3252-1238-11eb-98e6-0a30c2ef3beb
DTSTAMP:20201025T132828Z
SUMMARY:CDD Board Meeting Continued - Oct. 2020
LOCATION:https://us02web.zoom.us/j/81149422180?pwd=YjBaQmM0SXUvNmgwcGlWK1Qx
 TTlvUT09 Meeting ID: 811 4942 2180 Password: 804901 Call-in # 1 646 558 86
 56
URL;VALUE=URI:https://www.quarrycdd.org/calendar/2474784/cdd-board-meeting-
 oct-2020-clone
DTSTART:20201026T180000Z
DTEND:20201026T190000Z
END:VEVENT
END:VCALENDAR
