BEGIN:VCALENDAR
VERSION:2.0
PRODID:SchoolNow
CALSCALE:GREGORIAN
BEGIN:VEVENT
UID:3d58d11a-ffab-11ea-8bb4-124991cb02c7
DTSTAMP:20220616T183945Z
SUMMARY:CDD Board Meeting - Sep. 2021
LOCATION:The Quarry Beach Club located at 8975 Kayak Drive\, Naples\, Flori
 da . Call in: 646-838-1601  Conference ID: 951 092 195#
URL;VALUE=URI:https://www.quarrycdd.org/calendar/2388704/cdd-board-meeting-
 sep-2021
DTSTART:20210920T170000Z
DTEND:20210920T180000Z
ATTACH;FILENAME=2021-09-20 QUARRY CDD AGENDA PACKAGE.pdf;FMTTYPE=applicatio
 n/pdf:https://campussuite-storage.s3.amazonaws.com/prod/1558996/8b73be98-2
 b38-11ea-b7c0-0adbfdcf7165/2432125/b01a2ece-e726-11ec-9d07-02d18d43fbc3/fi
 le/2021-09-20 QUARRY CDD AGENDA PACKAGE.pdf
END:VEVENT
END:VCALENDAR
