BEGIN:VCALENDAR
VERSION:2.0
PRODID:SchoolNow
CALSCALE:GREGORIAN
BEGIN:VEVENT
UID:3496800e-ffab-11ea-89d2-124991cb02c7
DTSTAMP:20220616T184019Z
SUMMARY:CDD Board Meeting - Aug. 2021
LOCATION:The Quarry Beach Club located at 8975 Kayak Drive\, Naples\, Flori
 da 34120
URL;VALUE=URI:https://www.quarrycdd.org/calendar/2388703/cdd-board-meeting-
 aug-2021
DTSTART:20210816T170000Z
DTEND:20210816T180000Z
ATTACH;FILENAME=2021-08-16 QUARRY CDD AGENDA PACKAGE Ver3.pdf;FMTTYPE=appli
 cation/pdf:https://campussuite-storage.s3.amazonaws.com/prod/1558996/8b73b
 e98-2b38-11ea-b7c0-0adbfdcf7165/2432128/b01a3950-e726-11ec-be8c-02d18d43fb
 c3/file/2021-08-16 QUARRY CDD AGENDA PACKAGE Ver3.pdf
END:VEVENT
END:VCALENDAR
