BEGIN:VCALENDAR
VERSION:2.0
PRODID:SchoolNow
CALSCALE:GREGORIAN
BEGIN:VEVENT
UID:2b04fc5a-ffab-11ea-83cd-124991cb02c7
DTSTAMP:20210624T140228Z
SUMMARY:CDD Board Meeting - Jul. 2021 - Cancelled
LOCATION:The Quarry Beach Club located at 8975 Kayak Drive\, Naples\, Flori
 da 34120
URL;VALUE=URI:https://www.quarrycdd.org/calendar/2388702/cdd-board-meeting-
 jul-2021
DTSTART:20210719T170000Z
DTEND:20210719T180000Z
END:VEVENT
END:VCALENDAR
