BEGIN:VCALENDAR
VERSION:2.0
PRODID:SchoolNow
CALSCALE:GREGORIAN
BEGIN:VEVENT
UID:2160acbc-ffab-11ea-b5ac-124991cb02c7
DTSTAMP:20220616T184142Z
SUMMARY:CDD Board Meeting - Jun. 2021
LOCATION:The Quarry Beach Club located at 8975 Kayak Drive\, Naples\, Flori
 da 34120
URL;VALUE=URI:https://www.quarrycdd.org/calendar/2388701/cdd-board-meeting-
 jun-2021
DTSTART:20210621T170000Z
DTEND:20210621T180000Z
ATTACH;FILENAME=2021-06-21 QUARRY CDD AGENDA PACKAGE.pdf;FMTTYPE=applicatio
 n/pdf:https://campussuite-storage.s3.amazonaws.com/prod/1558996/8b73be98-2
 b38-11ea-b7c0-0adbfdcf7165/2432123/28ef053c-e726-11ec-abf5-02d18d43fbc3/fi
 le/2021-06-21 QUARRY CDD AGENDA PACKAGE.pdf
END:VEVENT
END:VCALENDAR
