BEGIN:VCALENDAR
VERSION:2.0
PRODID:SchoolNow
CALSCALE:GREGORIAN
BEGIN:VEVENT
UID:043b4d2c-ffab-11ea-b2db-124991cb02c7
DTSTAMP:20210412T230638Z
SUMMARY:CDD Board Meeting - Apr. 2021
LOCATION:The Quarry Beach Club located at 8975 Kayak Drive\, Naples\, Flori
 da 34120
URL;VALUE=URI:https://www.quarrycdd.org/calendar/2388699/cdd-board-meeting-
 apr-2021
DTSTART:20210419T170000Z
DTEND:20210419T180000Z
ATTACH;FILENAME=;FMTTYPE=application/octet-stream:
END:VEVENT
END:VCALENDAR
