BEGIN:VCALENDAR
VERSION:2.0
PRODID:SchoolNow
CALSCALE:GREGORIAN
BEGIN:VEVENT
UID:f097d6b4-ffaa-11ea-b64a-124991cb02c7
DTSTAMP:20210122T021413Z
SUMMARY:CDD Board Meeting - Feb. 2021 - CANCELLED
LOCATION:The Quarry Beach Club located at 8975 Kayak Drive\, Naples\, Flori
 da 34120
URL;VALUE=URI:https://www.quarrycdd.org/calendar/2388697/cdd-board-meeting-
 feb-2021-cancelled
DTSTART:20210215T180000Z
DTEND:20210215T190000Z
END:VEVENT
END:VCALENDAR
