BEGIN:VCALENDAR
VERSION:2.0
PRODID:SchoolNow
CALSCALE:GREGORIAN
BEGIN:VEVENT
UID:e69f09ca-ffaa-11ea-a06e-124991cb02c7
DTSTAMP:20210112T151402Z
SUMMARY:CDD Board Meeting - Jan. 2021
LOCATION:The Quarry Beach Club located at 8975 Kayak Drive\, Naples\, Flori
 da 34120
URL;VALUE=URI:https://www.quarrycdd.org/calendar/2388696/cdd-board-meeting-
 jan-2021
DTSTART:20210118T180000Z
DTEND:20210118T190000Z
ATTACH;FILENAME=;FMTTYPE=application/octet-stream:
END:VEVENT
END:VCALENDAR
