BEGIN:VCALENDAR
VERSION:2.0
PRODID:SchoolNow
CALSCALE:GREGORIAN
BEGIN:VEVENT
UID:dc346cdc-ffaa-11ea-b77f-124991cb02c7
DTSTAMP:20201211T211723Z
SUMMARY:CDD Board Meeting - Dec. 2020
LOCATION:The Quarry Beach Club located at 8975 Kayak Drive\, Naples\, Flori
 da 34120
URL;VALUE=URI:https://www.quarrycdd.org/calendar/2388695/cdd-board-meeting-
 dec-2020
DTSTART:20201214T180000Z
DTEND:20201214T190000Z
ATTACH;FILENAME=2020-12-14 THE QUARRY CDD AGENDA PACKAGE.pdf;FMTTYPE=applic
 ation/pdf:https://campussuite-storage.s3.amazonaws.com/prod/1558996/8b73be
 98-2b38-11ea-b7c0-0adbfdcf7165/2194224/3c341bd2-3bf6-11eb-8345-0a09d68a994
 1/file/2020-12-14 THE QUARRY CDD AGENDA PACKAGE.pdf
END:VEVENT
END:VCALENDAR
