BEGIN:VCALENDAR
VERSION:2.0
PRODID:SchoolNow
CALSCALE:GREGORIAN
BEGIN:VEVENT
UID:cf6eedec-ffaa-11ea-a2aa-124991cb02c7
DTSTAMP:20201109T213927Z
SUMMARY:CDD Board Meeting - Nov. 2020
LOCATION:The Quarry Beach Club located at 8975 Kayak Drive\, Naples\, Flori
 da 34120
URL;VALUE=URI:https://www.quarrycdd.org/calendar/2388694/cdd-board-meeting-
 nov-2020
DTSTART:20201116T180000Z
DTEND:20201116T190000Z
ATTACH;FILENAME=;FMTTYPE=application/octet-stream:
END:VEVENT
END:VCALENDAR
