BEGIN:VCALENDAR
VERSION:2.0
PRODID:SchoolNow
CALSCALE:GREGORIAN
BEGIN:VEVENT
UID:c5cb000a-ffaa-11ea-99cc-124991cb02c7
DTSTAMP:20201013T004149Z
SUMMARY:CDD Board Meeting - Oct. 2020
LOCATION:The meeting will be conducted by ZOOM: Meeting Link:https://us02we
 b.zoom.us/j/81149422180?pwd=YjBaQmM0SXUvNmgwcGlWK1QxTTlvUT09\; Meeting ID:
  811 4942 2180\; Password: 804901\; Call-in # 1 646 558 8656
URL;VALUE=URI:https://www.quarrycdd.org/calendar/2388693/cdd-board-meeting-
 oct-2020
DTSTART:20201019T170000Z
DTEND:20201019T180000Z
ATTACH;FILENAME=;FMTTYPE=application/octet-stream:
END:VEVENT
END:VCALENDAR
