BEGIN:VCALENDAR
VERSION:2.0
PRODID:SchoolNow
CALSCALE:GREGORIAN
BEGIN:VEVENT
UID:7f73e2ee-a9cd-11ea-8571-12d90080781d
DTSTAMP:20200615T163753Z
SUMMARY:CDD WORKSHOP  - Jun. 2020
LOCATION:Join Zoom Meeting https://us02web.zoom.us/j/88969821061?pwd=Y0ZLZm
 5saDVad2xzY0E4b1l1M0lDZz09   Meeting ID: 889 6982 1061 Password: 766671 di
 al in #: 1 646 558 8656
URL;VALUE=URI:https://www.quarrycdd.org/calendar/2257689/cdd-workshop-jun-2
 020
DTSTART:20200615T160000Z
DTEND:20200615T170000Z
ATTACH;FILENAME=2020-06-15 Quarry - Workshop Agenda.pdf;FMTTYPE=application
 /pdf:https://campussuite-storage.s3.amazonaws.com/prod/1558996/8b73be98-2b
 38-11ea-b7c0-0adbfdcf7165/2111127/7c14cc8a-a9cd-11ea-abe4-12d90080781d/fil
 e/2020-06-15 Quarry - Workshop Agenda.pdf
END:VEVENT
END:VCALENDAR
