BEGIN:VCALENDAR
VERSION:2.0
PRODID:SchoolNow
CALSCALE:GREGORIAN
BEGIN:VEVENT
UID:668755ac-2d8d-11ea-9f69-0ab9f8af5147
DTSTAMP:20200918T183957Z
SUMMARY:CDD Board Meeting - Sep. 2020
LOCATION:The meeting will be conducted by ZOOM: Meeting Link: https://us02w
 eb.zoom.us/j/81149422180?pwd=YjBaQmM0SXUvNmgwcGlWK1QxTTlvUT09\; Meeting ID
 : 811 4942 2180\; Password: 804901\; Call-in # 1 646 558 8656
URL;VALUE=URI:https://www.quarrycdd.org/calendar/2168891/cdd-board-meeting-
 sep-2020
DTSTART:20200921T170000Z
DTEND:20200921T180000Z
ATTACH;FILENAME=2020-09-21 QUARRY CDD AGENDA PACKAGE.pdf;FMTTYPE=applicatio
 n/pdf:https://campussuite-storage.s3.amazonaws.com/prod/1558996/8b73be98-2
 b38-11ea-b7c0-0adbfdcf7165/2158623/59458bb0-f6ec-11ea-add5-120307565397/fi
 le/2020-09-21 QUARRY CDD AGENDA PACKAGE.pdf
END:VEVENT
END:VCALENDAR
