BEGIN:VCALENDAR
VERSION:2.0
PRODID:SchoolNow
CALSCALE:GREGORIAN
BEGIN:VEVENT
UID:0ac7ca8a-2d8d-11ea-a296-0ab8d8dc94b5
DTSTAMP:20200810T130558Z
SUMMARY:CDD Board Meeting - Aug. 2020
LOCATION:The meeting will be conducted by ZOOM: Meeting Link: https://us02w
 eb.zoom.us/j/88330865442?pwd=OUNabjBvQlpJa2hpWGJ0OHFUaFQwZz09\; Meeting ID
 : 883 3086 5442\; Password: 543956\; Call-in # 1 646 558 8656
URL;VALUE=URI:https://www.quarrycdd.org/calendar/2168890/cdd-board-meeting-
 aug-2020
DTSTART:20200817T170000Z
DTEND:20200817T180000Z
ATTACH;FILENAME=2020-08-17 QUARRY CDD AGENDA PACKAGE.PDF;FMTTYPE=applicatio
 n/pdf:https://campussuite-storage.s3.amazonaws.com/prod/1558996/8b73be98-2
 b38-11ea-b7c0-0adbfdcf7165/2141165/35c31372-db0a-11ea-a852-122e07c17d0d/fi
 le/2020-08-17 QUARRY CDD AGENDA PACKAGE.PDF
END:VEVENT
END:VCALENDAR
