BEGIN:VCALENDAR
VERSION:2.0
PRODID:SchoolNow
CALSCALE:GREGORIAN
BEGIN:VEVENT
UID:fa5cc376-2d8c-11ea-bfd9-0ab8d8dc94b5
DTSTAMP:20200624T200640Z
SUMMARY:CDD Board Meeting - Jul. 2020 - Cancelled
LOCATION:The Quarry Beach Club located at 8975 Kayak Drive\, Naples\, Flori
 da 34120
URL;VALUE=URI:https://www.quarrycdd.org/calendar/2168889/cdd-board-meeting-
 jul-2020-cancelled
DTSTART:20200720T170000Z
DTEND:20200720T180000Z
END:VEVENT
END:VCALENDAR
