BEGIN:VCALENDAR
VERSION:2.0
PRODID:SchoolNow
CALSCALE:GREGORIAN
BEGIN:VEVENT
UID:f03ffbc4-2d8c-11ea-8384-0ab8d8dc94b5
DTSTAMP:20200615T163741Z
SUMMARY:CDD Board Meeting - Jun. 2020
LOCATION:Join Zoom Meeting https://us02web.zoom.us/j/88969821061?pwd=Y0ZLZm
 5saDVad2xzY0E4b1l1M0lDZz09   Meeting ID: 889 6982 1061 Password: 766671 di
 al in #: 1 646 558 8656
URL;VALUE=URI:https://www.quarrycdd.org/calendar/2168888/cdd-board-meeting-
 jun-2020
DTSTART:20200615T170000Z
DTEND:20200615T180000Z
ATTACH;FILENAME=2020-06-15 QUARRY CDD AGENDA PACKAGE.pdf;FMTTYPE=applicatio
 n/pdf:https://campussuite-storage.s3.amazonaws.com/prod/1558996/8b73be98-2
 b38-11ea-b7c0-0adbfdcf7165/2111123/693be388-a9cc-11ea-9a36-12d90080781d/fi
 le/2020-06-15 QUARRY CDD AGENDA PACKAGE.pdf
END:VEVENT
END:VCALENDAR
