BEGIN:VCALENDAR
VERSION:2.0
PRODID:SchoolNow
CALSCALE:GREGORIAN
BEGIN:VEVENT
UID:e606c480-2d8c-11ea-bb08-0ab8d8dc94b5
DTSTAMP:20200511T203657Z
SUMMARY:CDD Board Meeting - May 2020
LOCATION:Join Zoom Meeting https://us02web.zoom.us/j/84335430694?pwd=c0lIL1
 dzZWlZL1hsR2JMN3dya1loUT09   Meeting ID: 843 3543 0694 Password: 894106 Ca
 ll in #: 1-646-558-8656
URL;VALUE=URI:https://www.quarrycdd.org/calendar/2168887/cdd-board-meeting-
 may-2020
DTSTART:20200518T170000Z
DTEND:20200518T180000Z
ATTACH;FILENAME=2020-05-18 QUARRY CDD AGENDA PACKAGE.pdf;FMTTYPE=applicatio
 n/pdf:https://campussuite-storage.s3.amazonaws.com/prod/1558996/8b73be98-2
 b38-11ea-b7c0-0adbfdcf7165/2096391/24f6dedc-93c7-11ea-96b9-0abf9590ab1b/fi
 le/2020-05-18 QUARRY CDD AGENDA PACKAGE.pdf
END:VEVENT
END:VCALENDAR
