BEGIN:VCALENDAR
VERSION:2.0
PRODID:SchoolNow
CALSCALE:GREGORIAN
BEGIN:VEVENT
UID:dc66c6dc-2d8c-11ea-9da0-0ab8d8dc94b5
DTSTAMP:20200420T133128Z
SUMMARY:CDD Board Meeting - Apr. 2020
LOCATION:Zoom Meeting https://us02web.zoom.us/j/88168459927?pwd=SU5jMEVXYkh
 Feml2UUl6dnBOYXE2Zz09 Meeting ID: 881 6845 9927 Password: 039896 One tap m
 obile +16465588656\,\,88168459927#\,\,#\,039896# US (New York) +1312626679
 9\,\,88168459927#\,\,#\,039896# US (Chicago)
URL;VALUE=URI:https://www.quarrycdd.org/calendar/2168886/cdd-board-meeting-
 apr-2020
DTSTART:20200420T170000Z
DTEND:20200420T180000Z
ATTACH;FILENAME=2020-04-20 QUARRY CDD AGENDA PACKAGE.pdf;FMTTYPE=applicatio
 n/pdf:https://campussuite-storage.s3.amazonaws.com/prod/1558996/8b73be98-2
 b38-11ea-b7c0-0adbfdcf7165/2081311/09993fde-7dc6-11ea-ab96-0a779764a327/fi
 le/2020-04-20 QUARRY CDD AGENDA PACKAGE.pdf
END:VEVENT
END:VCALENDAR
