BEGIN:VCALENDAR
VERSION:2.0
PRODID:SchoolNow
CALSCALE:GREGORIAN
BEGIN:VEVENT
UID:d1700dec-2d8c-11ea-b793-0ab8d8dc94b5
DTSTAMP:20200316T122810Z
SUMMARY:CDD Board Meeting - Mar. 2020
LOCATION:The Quarry Beach Club located at 8975 Kayak Drive\, Naples\, Flori
 da 34120
URL;VALUE=URI:https://www.quarrycdd.org/calendar/2168885/cdd-board-meeting-
 mar-2020
DTSTART:20200316T170000Z
DTEND:20200316T180000Z
ATTACH;FILENAME=2020-03-16 QUARRY CDD AGENDA PACKAGE.pdf;FMTTYPE=applicatio
 n/pdf:https://campussuite-storage.s3.amazonaws.com/prod/1558996/8b73be98-2
 b38-11ea-b7c0-0adbfdcf7165/2064853/748942c6-6390-11ea-8b2e-0a90dd33ee11/fi
 le/2020-03-16 QUARRY CDD AGENDA PACKAGE.pdf
END:VEVENT
END:VCALENDAR
